BEGIN:VCALENDAR
VERSION:2.0
PRODID:-//IIS O. Belluzzi – Fioravanti - ECPv4.9.4//NONSGML v1.0//EN
CALSCALE:GREGORIAN
METHOD:PUBLISH
X-WR-CALNAME:IIS O. Belluzzi – Fioravanti
X-ORIGINAL-URL:https://www.belluzzifioravanti.it
X-WR-CALDESC:Eventi per IIS O. Belluzzi – Fioravanti
BEGIN:VTIMEZONE
TZID:"Europe/Rome"
BEGIN:DAYLIGHT
TZOFFSETFROM:+0100
TZOFFSETTO:+0200
TZNAME:CEST
DTSTART:20220327T010000
END:DAYLIGHT
BEGIN:STANDARD
TZOFFSETFROM:+0200
TZOFFSETTO:+0100
TZNAME:CET
DTSTART:20221030T010000
END:STANDARD
END:VTIMEZONE
BEGIN:VEVENT
DTSTART;TZID="Europe/Rome":20221121T090000
DTEND;TZID="Europe/Rome":20221121T120000
DTSTAMP:20260426T025233
CREATED:20221118T084229Z
LAST-MODIFIED:20221118T084229Z
UID:13145-1669021200-1669032000@www.belluzzifioravanti.it
SUMMARY:CONVERSAZIONI DA CASA MARCONI\, ALLE ORIGINI DEL WIRELESS
DESCRIPTION:La classe 3BIO si reca presso FONDAZIONE GUGLIELMO MARCONI per assistere a una CHIACCHIERATA TECNICO-SCIENTIFICA NELLA STORIA DELLA SCIENZA.\n\nDOCENTI ACCOMPAGNATORI: Prof.sse Sara Rizzo e Marina Di Zenzo\n
URL:https://www.belluzzifioravanti.it/event/conversazioni-da-casa-marconi-alle-origini-del-wireless/
END:VEVENT
END:VCALENDAR