BEGIN:VCALENDAR
VERSION:2.0
PRODID:-//IIS O. Belluzzi – Fioravanti - ECPv4.9.4//NONSGML v1.0//EN
CALSCALE:GREGORIAN
METHOD:PUBLISH
X-WR-CALNAME:IIS O. Belluzzi – Fioravanti
X-ORIGINAL-URL:https://www.belluzzifioravanti.it
X-WR-CALDESC:Eventi per IIS O. Belluzzi – Fioravanti
BEGIN:VTIMEZONE
TZID:"Europe/Rome"
BEGIN:DAYLIGHT
TZOFFSETFROM:+0100
TZOFFSETTO:+0200
TZNAME:CEST
DTSTART:20230326T010000
END:DAYLIGHT
BEGIN:STANDARD
TZOFFSETFROM:+0200
TZOFFSETTO:+0100
TZNAME:CET
DTSTART:20231029T010000
END:STANDARD
END:VTIMEZONE
BEGIN:VEVENT
DTSTART;TZID="Europe/Rome":20230506T080000
DTEND;TZID="Europe/Rome":20230506T140000
DTSTAMP:20260425T120424
CREATED:20230417T064618Z
LAST-MODIFIED:20230417T064651Z
UID:14016-1683360000-1683381600@www.belluzzifioravanti.it
SUMMARY:CHIAMA chiAMA
DESCRIPTION:La CLASSE 3 AFE si reca al centro antiviolenza “CHIAMA chiAMA” in Piazza San Francesco 8 per una visita guidata al centro nell’ambito del Progetto Legalità. \nDOCENTI ACCOMPAGNATORI: Prof. Daniele Arcangeli\, Prof.ssa Laura Zanghi \n
URL:https://www.belluzzifioravanti.it/event/chiama-chiama/
END:VEVENT
END:VCALENDAR