BEGIN:VCALENDAR
VERSION:2.0
PRODID:-//IIS O. Belluzzi – Fioravanti - ECPv4.9.4//NONSGML v1.0//EN
CALSCALE:GREGORIAN
METHOD:PUBLISH
X-WR-CALNAME:IIS O. Belluzzi – Fioravanti
X-ORIGINAL-URL:https://www.belluzzifioravanti.it
X-WR-CALDESC:Eventi per IIS O. Belluzzi – Fioravanti
BEGIN:VTIMEZONE
TZID:"Europe/Rome"
BEGIN:DAYLIGHT
TZOFFSETFROM:+0100
TZOFFSETTO:+0200
TZNAME:CEST
DTSTART:20230326T010000
END:DAYLIGHT
BEGIN:STANDARD
TZOFFSETFROM:+0200
TZOFFSETTO:+0100
TZNAME:CET
DTSTART:20231029T010000
END:STANDARD
END:VTIMEZONE
BEGIN:VEVENT
DTSTART;TZID="Europe/Rome":20230419T100000
DTEND;TZID="Europe/Rome":20230419T130000
DTSTAMP:20260425T153319
CREATED:20230413T080051Z
LAST-MODIFIED:20230413T080051Z
UID:14005-1681898400-1681909200@www.belluzzifioravanti.it
SUMMARY:Campionamento delle acque superficiali del fiume Reno
DESCRIPTION:La CLASSE 5 AC  si reca presso la riva del fiume Reno adiacente l’Istituto per  il campionamento di acque superficiali. \nDOCENTI ACCOMPAGNATORI: Prof. Simone Ioannone\, Antonella Andracchio\,  Assistenti tecnici: Francesco Paglia\, Rosaria Prestia \n
URL:https://www.belluzzifioravanti.it/event/campionamento-delle-acque-superficiali-del-fiume-reno/
END:VEVENT
END:VCALENDAR