BEGIN:VCALENDAR
VERSION:2.0
PRODID:-//IIS O. Belluzzi – Fioravanti - ECPv4.9.4//NONSGML v1.0//EN
CALSCALE:GREGORIAN
METHOD:PUBLISH
X-WR-CALNAME:IIS O. Belluzzi – Fioravanti
X-ORIGINAL-URL:https://www.belluzzifioravanti.it
X-WR-CALDESC:Eventi per IIS O. Belluzzi – Fioravanti
BEGIN:VTIMEZONE
TZID:"Europe/Rome"
BEGIN:DAYLIGHT
TZOFFSETFROM:+0100
TZOFFSETTO:+0200
TZNAME:CEST
DTSTART:20220327T010000
END:DAYLIGHT
BEGIN:STANDARD
TZOFFSETFROM:+0200
TZOFFSETTO:+0100
TZNAME:CET
DTSTART:20221030T010000
END:STANDARD
END:VTIMEZONE
BEGIN:VEVENT
DTSTART;TZID="Europe/Rome":20221210T080000
DTEND;TZID="Europe/Rome":20221210T130000
DTSTAMP:20260425T231101
CREATED:20221209T100606Z
LAST-MODIFIED:20221209T100606Z
UID:13367-1670659200-1670677200@www.belluzzifioravanti.it
SUMMARY:Arte e Motori. I segreti della terra dei motori.
DESCRIPTION:La Classe 3AFE si reca all’Arena del Sole in via Indipendenza 44 – Bologna\, per partecipare all’attività: Arte e Motori. \nI segreti della terra dei motori.\nDocenti accompagnatori : Prof. Scamperti Costantino e Graziano Santo\n
URL:https://www.belluzzifioravanti.it/event/arte-e-motori-i-segreti-della-terra-dei-motori/
END:VEVENT
END:VCALENDAR